BEGIN:VCALENDAR
VERSION:2.0
PRODID:-//Diocese of Altoona-Johnstown - ECPv6.15.20//NONSGML v1.0//EN
CALSCALE:GREGORIAN
METHOD:PUBLISH
X-ORIGINAL-URL:https://www.dioceseaj.org
X-WR-CALDESC:Events for Diocese of Altoona-Johnstown
REFRESH-INTERVAL;VALUE=DURATION:PT1H
X-Robots-Tag:noindex
X-PUBLISHED-TTL:PT1H
BEGIN:VTIMEZONE
TZID:America/New_York
BEGIN:DAYLIGHT
TZOFFSETFROM:-0500
TZOFFSETTO:-0400
TZNAME:EDT
DTSTART:20250309T070000
END:DAYLIGHT
BEGIN:STANDARD
TZOFFSETFROM:-0400
TZOFFSETTO:-0500
TZNAME:EST
DTSTART:20251102T060000
END:STANDARD
BEGIN:DAYLIGHT
TZOFFSETFROM:-0500
TZOFFSETTO:-0400
TZNAME:EDT
DTSTART:20260308T070000
END:DAYLIGHT
BEGIN:STANDARD
TZOFFSETFROM:-0400
TZOFFSETTO:-0500
TZNAME:EST
DTSTART:20261101T060000
END:STANDARD
BEGIN:DAYLIGHT
TZOFFSETFROM:-0500
TZOFFSETTO:-0400
TZNAME:EDT
DTSTART:20270314T070000
END:DAYLIGHT
BEGIN:STANDARD
TZOFFSETFROM:-0400
TZOFFSETTO:-0500
TZNAME:EST
DTSTART:20271107T060000
END:STANDARD
BEGIN:DAYLIGHT
TZOFFSETFROM:-0500
TZOFFSETTO:-0400
TZNAME:EDT
DTSTART:20280312T070000
END:DAYLIGHT
BEGIN:STANDARD
TZOFFSETFROM:-0400
TZOFFSETTO:-0500
TZNAME:EST
DTSTART:20281105T060000
END:STANDARD
END:VTIMEZONE
BEGIN:VEVENT
DTSTART;VALUE=DATE:20260919
DTEND;VALUE=DATE:20260920
DTSTAMP:20260419T121426
CREATED:20260205T133406Z
LAST-MODIFIED:20260205T133406Z
UID:10004394-1789776000-1789862399@www.dioceseaj.org
SUMMARY:Diocesan Family Conference
DESCRIPTION:A day-long conference in celebration of the 125th anniversary of the Diocese of Altoona-Johnstown. More information will be released at a later date.
URL:https://www.dioceseaj.org/event/diocesan-family-conference/
END:VEVENT
BEGIN:VEVENT
DTSTART;TZID=America/New_York:20260920T140000
DTEND;TZID=America/New_York:20260920T153000
DTSTAMP:20260419T121426
CREATED:20260210T173635Z
LAST-MODIFIED:20260210T173635Z
UID:10004398-1789912800-1789918200@www.dioceseaj.org
SUMMARY:Diocesan Wedding Anniversary Liturgy-Johnstown
DESCRIPTION:A Mass for couples celebrating milestone wedding anniversaries will be celebrated by Bishop Mark. Please call the Family Life Office at 814-695-5579 to register.
URL:https://www.dioceseaj.org/event/diocesan-wedding-anniversary-liturgy-johnstown/
LOCATION:Saint John Gualbert Cathedral\, 117 Clinton Street\, Johnstown\, PA\, 15907-0807\, United States
GEO:40.3251984;-78.9150758
X-APPLE-STRUCTURED-LOCATION;VALUE=URI;X-ADDRESS=Saint John Gualbert Cathedral 117 Clinton Street Johnstown PA 15907-0807 United States;X-APPLE-RADIUS=500;X-TITLE=117 Clinton Street:geo:-78.9150758,40.3251984
END:VEVENT
BEGIN:VEVENT
DTSTART;VALUE=DATE:20261012
DTEND;VALUE=DATE:20261013
DTSTAMP:20260419T121426
CREATED:20251209T131610Z
LAST-MODIFIED:20251209T131610Z
UID:10004386-1791763200-1791849599@www.dioceseaj.org
SUMMARY:Columbus Day-Offices Closed
DESCRIPTION:
URL:https://www.dioceseaj.org/event/columbus-day-offices-closed/
END:VEVENT
BEGIN:VEVENT
DTSTART;VALUE=DATE:20261111
DTEND;VALUE=DATE:20261112
DTSTAMP:20260419T121426
CREATED:20251209T131639Z
LAST-MODIFIED:20251209T131639Z
UID:10004387-1794355200-1794441599@www.dioceseaj.org
SUMMARY:Veteran's Day-Offices Closed
DESCRIPTION:
URL:https://www.dioceseaj.org/event/veterans-day-offices-closed/
END:VEVENT
BEGIN:VEVENT
DTSTART;VALUE=DATE:20261126
DTEND;VALUE=DATE:20261128
DTSTAMP:20260419T121426
CREATED:20251209T131709Z
LAST-MODIFIED:20251209T131709Z
UID:10004388-1795651200-1795823999@www.dioceseaj.org
SUMMARY:Thanksgiving Holiday-Offices Closed
DESCRIPTION:
URL:https://www.dioceseaj.org/event/thanksgiving-holiday-offices-closed/
END:VEVENT
BEGIN:VEVENT
DTSTART;VALUE=DATE:20261208
DTEND;VALUE=DATE:20261209
DTSTAMP:20260419T121426
CREATED:20251209T131748Z
LAST-MODIFIED:20251209T131748Z
UID:10004389-1796688000-1796774399@www.dioceseaj.org
SUMMARY:Immaculate Conception of the Blessed Virgin Mary-Offices Closed
DESCRIPTION:
URL:https://www.dioceseaj.org/event/immaculate-conception-of-the-blessed-virgin-mary-offices-closed/
END:VEVENT
BEGIN:VEVENT
DTSTART;VALUE=DATE:20261223
DTEND;VALUE=DATE:20261226
DTSTAMP:20260419T121426
CREATED:20251209T131846Z
LAST-MODIFIED:20251209T131846Z
UID:10004390-1797984000-1798243199@www.dioceseaj.org
SUMMARY:Christmas Holiday-Offices Closed
DESCRIPTION:
URL:https://www.dioceseaj.org/event/christmas-holiday-offices-closed/
END:VEVENT
BEGIN:VEVENT
DTSTART;VALUE=DATE:20261231
DTEND;VALUE=DATE:20270102
DTSTAMP:20260419T121426
CREATED:20251209T131924Z
LAST-MODIFIED:20251209T131924Z
UID:10004391-1798675200-1798847999@www.dioceseaj.org
SUMMARY:New Year Holiday-Offices Closed
DESCRIPTION:
URL:https://www.dioceseaj.org/event/new-year-holiday-offices-closed/
END:VEVENT
END:VCALENDAR